BEGIN:VCALENDAR
PRODID:-//AT Content Types//AT Event//EN
VERSION:1.0
BEGIN:VEVENT
DTSTART:20220302T133000Z
DTEND:20220302T150000Z
DCREATED:20220223T154228Z
UID:ATEvent-97cb00442e3f4885bd0d91983a862682
SEQUENCE:0
LAST-MODIFIED:20220223T154240Z
SUMMARY:Nuovi ammortizzatori sociali
DESCRIPTION:La riforma prevista dalla Legge di Bilancio 2022.
LOCATION:On line
PRIORITY:3
TRANSP:0
END:VEVENT
END:VCALENDAR
