BEGIN:VCALENDAR
PRODID:-//AT Content Types//AT Event//EN
VERSION:1.0
BEGIN:VEVENT
DTSTART:20241016T123000Z
DTEND:20241016T141500Z
DCREATED:20241001T132311Z
UID:ATEvent-90046c44879144858031952f8f7f21ba
SEQUENCE:0
LAST-MODIFIED:20241001T132314Z
SUMMARY:Nuove dinamiche del lavoro e relazioni industriali
LOCATION:Bergamo
PRIORITY:3
TRANSP:0
END:VEVENT
END:VCALENDAR
