BEGIN:VCALENDAR
PRODID:-//AT Content Types//AT Event//EN
VERSION:1.0
BEGIN:VEVENT
DTSTART:20221010T160000Z
DTEND:20221010T173000Z
DCREATED:20221003T141033Z
UID:ATEvent-819c2de6bc814fd49597dd6fa72934fe
SEQUENCE:0
LAST-MODIFIED:20221003T141853Z
SUMMARY:Nuove competenze trasversali\, attitudini e flessibilità: ricerca e valorizzazione delle risorse umane per la crescita delle imprese manifatturiere
LOCATION:Monza
PRIORITY:3
TRANSP:0
END:VEVENT
END:VCALENDAR
