BEGIN:VCALENDAR
PRODID:-//AT Content Types//AT Event//EN
VERSION:2.0
METHOD:PUBLISH
BEGIN:VEVENT
DTSTAMP:20260424T165352Z
CREATED:20180216T130922Z
UID:ATEvent-5c82c1147e584d808dae40474a7eb687
LAST-MODIFIED:20180216T131433Z
SUMMARY:Novità Intrastat 2018
DTSTART:20180220T080000Z
DTEND:20180220T113000Z
LOCATION:Cremona
CLASS:PUBLIC
END:VEVENT
END:VCALENDAR
