BEGIN:VCALENDAR
PRODID:-//AT Content Types//AT Event//EN
VERSION:2.0
METHOD:PUBLISH
BEGIN:VEVENT
DTSTAMP:20260422T173553Z
CREATED:20190922T202826Z
UID:ATEvent-adce87c7df0d46a28fc3e918e474dc71
LAST-MODIFIED:20190922T204642Z
SUMMARY:Novità INPS 2019 - La gestione dell’UTILITY ANF
DTSTART:20190930T123000Z
DTEND:20190930T153000Z
LOCATION:Milano
CLASS:PUBLIC
END:VEVENT
END:VCALENDAR
