BEGIN:VCALENDAR
PRODID:-//AT Content Types//AT Event//EN
VERSION:1.0
BEGIN:VEVENT
DTSTART:20190228T160000Z
DTEND:20190228T180000Z
DCREATED:20190225T163849Z
UID:ATEvent-c2d7203b1a8b4caca5eb7e7f761d94ca
SEQUENCE:0
LAST-MODIFIED:20190225T163904Z
SUMMARY:Non Sono Cose da Grandi: I vantaggi della Lean Organization per le PMI
LOCATION:Milano
PRIORITY:3
TRANSP:0
END:VEVENT
END:VCALENDAR
