BEGIN:VCALENDAR
PRODID:-//AT Content Types//AT Event//EN
VERSION:2.0
METHOD:PUBLISH
BEGIN:VEVENT
DTSTAMP:20260422T155448Z
CREATED:20250326T135020Z
UID:ATEvent-1541a345f2734970a6fd74be3bc0a031
LAST-MODIFIED:20250326T135116Z
SUMMARY:Non so se ce la fai - Presentazione del libro di Vincenzo Novari
DTSTART:20250331T163000Z
DTEND:20250331T173000Z
DESCRIPTION:ASSOtalk: gli incontri aperti alla città nei nuovi spazi 
 di Assolombarda
LOCATION:Milano
CLASS:PUBLIC
END:VEVENT
END:VCALENDAR
