BEGIN:VCALENDAR
PRODID:-//AT Content Types//AT Event//EN
VERSION:2.0
METHOD:PUBLISH
BEGIN:VEVENT
DTSTAMP:20260422T191020Z
CREATED:20240610T153855Z
UID:ATEvent-915b4c3bd957483982d59939e247c19a
LAST-MODIFIED:20240610T153906Z
SUMMARY:#Nextgen @ Work. Trovare talenti è un gioco da ragazzi!
DTSTART:20240619T160000Z
DTEND:20240619T173000Z
DESCRIPTION:Assemblea Pubbica Giovani Imprenditori
LOCATION:Bergamo
CLASS:PUBLIC
END:VEVENT
END:VCALENDAR
