BEGIN:VCALENDAR
PRODID:-//AT Content Types//AT Event//EN
VERSION:2.0
METHOD:PUBLISH
BEGIN:VEVENT
DTSTAMP:20260424T070208Z
CREATED:20210324T205752Z
UID:ATEvent-24b68a4695704e9f8e667625db5ed3da
LAST-MODIFIED:20210324T220553Z
SUMMARY:NExT Marketing Lab: innovazione e strategie digitali
DTSTART:20210331T083000Z
DTEND:20210331T103000Z
LOCATION:On line
CLASS:PUBLIC
END:VEVENT
END:VCALENDAR
