BEGIN:VCALENDAR
PRODID:-//AT Content Types//AT Event//EN
VERSION:2.0
METHOD:PUBLISH
BEGIN:VEVENT
DTSTAMP:20260422T230339Z
CREATED:20231115T143439Z
UID:ATEvent-adf38eceef684ab3b6adf374ee306df9
LAST-MODIFIED:20231115T143654Z
SUMMARY:Nel cuore della manifattura: un’analisi economico-finanziaria dei primi 200 gruppi industriali di Bergamo e Brescia
DTSTART:20231121T160000Z
DTEND:20231121T180000Z
LOCATION:Provaglio d'Iseo
CLASS:PUBLIC
END:VEVENT
END:VCALENDAR
