BEGIN:VCALENDAR
PRODID:-//AT Content Types//AT Event//EN
VERSION:2.0
METHOD:PUBLISH
BEGIN:VEVENT
DTSTAMP:20260424T054647Z
CREATED:20230303T103100Z
UID:ATEvent-87bcb27018b4418ab30196af630cab7c
LAST-MODIFIED:20230303T111431Z
SUMMARY:Nei labirinti del packaging: l’etichettatura ambientale degli imballaggi in Europa
DTSTART:20230314T090000Z
DTEND:20230314T103000Z
DESCRIPTION:Webinar gratuito
LOCATION:On line
CLASS:PUBLIC
END:VEVENT
END:VCALENDAR
