BEGIN:VCALENDAR
PRODID:-//AT Content Types//AT Event//EN
VERSION:2.0
METHOD:PUBLISH
BEGIN:VEVENT
DTSTAMP:20260421T120958Z
CREATED:20170314T160759Z
UID:ATEvent-6496820588624734a8182467f48b9f48
LAST-MODIFIED:20170314T160849Z
SUMMARY:MUD 2017
DTSTART:20170410T123000Z
DTEND:20170410T143000Z
LOCATION:Brescia
CLASS:PUBLIC
END:VEVENT
END:VCALENDAR
