BEGIN:VCALENDAR
PRODID:-//AT Content Types//AT Event//EN
VERSION:1.0
BEGIN:VEVENT
DTSTART:20170516T073000Z
DTEND:20170516T133000Z
DCREATED:20170413T164853Z
UID:ATEvent-38d6cbaf9cad40c8bbc73d6e605aba61
SEQUENCE:0
LAST-MODIFIED:20170519T085507Z
SUMMARY:Mosca\, una Regione favorevole al Business
DESCRIPTION:opportunità per le imprese lombarde
LOCATION:Milano
PRIORITY:3
TRANSP:0
END:VEVENT
END:VCALENDAR
