BEGIN:VCALENDAR
PRODID:-//AT Content Types//AT Event//EN
VERSION:2.0
METHOD:PUBLISH
BEGIN:VEVENT
DTSTAMP:20260421T200847Z
CREATED:20230529T133058Z
UID:ATEvent-9f1da8dfd6134025a79127463eb65fca
LAST-MODIFIED:20230531T152047Z
SUMMARY:Monza e Brianza 2050: prospettive e traiettorie per lo sviluppo del territorio
DTSTART:20230612T090000Z
DTEND:20230612T103000Z
DESCRIPTION:L’analisi\, realizzata da Assolombarda\, verrà presenta
 ta il 12 giugno alle ore 11.00.
LOCATION:Monza
CLASS:PUBLIC
END:VEVENT
END:VCALENDAR
