BEGIN:VCALENDAR
PRODID:-//AT Content Types//AT Event//EN
VERSION:2.0
METHOD:PUBLISH
BEGIN:VEVENT
DTSTAMP:20260423T005425Z
CREATED:20220720T134734Z
UID:ATEvent-ddfb0f2f45ac44a194d4d97e50744e96
LAST-MODIFIED:20220720T134737Z
SUMMARY:Modelli di business innovativi e sostenibili
DTSTART:20220913T143000Z
DTEND:20220913T163000Z
DESCRIPTION:Terzo appuntamento del ciclo di incontri “Imprese a prov
 a di futuro”
LOCATION:Erba (CO)
CLASS:PUBLIC
END:VEVENT
END:VCALENDAR
