BEGIN:VCALENDAR
PRODID:-//AT Content Types//AT Event//EN
VERSION:1.0
BEGIN:VEVENT
DTSTART:20201218T133000Z
DTEND:20201218T153000Z
DCREATED:20201211T160914Z
UID:ATEvent-8c947171399349b79aea2f7d5d379eca
SEQUENCE:0
LAST-MODIFIED:20201211T161122Z
SUMMARY:Moda e sostenibilità - Quale futuro per la moda sostenibile
LOCATION:On line
PRIORITY:3
TRANSP:0
END:VEVENT
END:VCALENDAR
