BEGIN:VCALENDAR
PRODID:-//AT Content Types//AT Event//EN
VERSION:1.0
BEGIN:VEVENT
DTSTART:20171007T071500Z
DTEND:20171007T110000Z
DCREATED:20171006T140340Z
UID:ATEvent-656a9218c50a40228e00c901a2509042
SEQUENCE:0
LAST-MODIFIED:20171006T141926Z
SUMMARY:Mobilità 4.0 nell'era dell'Economia Circolare
LOCATION:Brescia
PRIORITY:3
TRANSP:0
END:VEVENT
END:VCALENDAR
