BEGIN:VCALENDAR
PRODID:-//AT Content Types//AT Event//EN
VERSION:1.0
BEGIN:VEVENT
DTSTART:20220413T083000Z
DTEND:20220413T103000Z
DCREATED:20220411T093237Z
UID:ATEvent-d6c0b5ed76be42c28caecc93546c53ad
SEQUENCE:0
LAST-MODIFIED:20220411T134334Z
SUMMARY:MISE: gli Accordi di Innovazione
LOCATION:On line
PRIORITY:3
TRANSP:0
END:VEVENT
END:VCALENDAR
