BEGIN:VCALENDAR
PRODID:-//AT Content Types//AT Event//EN
VERSION:1.0
BEGIN:VEVENT
DTSTART:20240409T073000Z
DTEND:20240409T100000Z
DCREATED:20240404T145425Z
UID:ATEvent-ce285fbe92934211b5acb32e4e4e430f
SEQUENCE:0
LAST-MODIFIED:20240404T145933Z
SUMMARY:Milano Torino Genova | Mobility Conference 2024
DESCRIPTION:L’appuntamento con il futuro della mobilità si moltipli
 ca e apre le porte alle startup internazionali
LOCATION:Milano
PRIORITY:3
TRANSP:0
END:VEVENT
END:VCALENDAR
