BEGIN:VCALENDAR
PRODID:-//AT Content Types//AT Event//EN
VERSION:2.0
METHOD:PUBLISH
BEGIN:VEVENT
DTSTAMP:20260424T124638Z
CREATED:20211203T103151Z
UID:ATEvent-ff72d9e7046a4b52997c5fcc6205c784
LAST-MODIFIED:20211203T103410Z
SUMMARY:Milano Life Sciences Forum - Sfide e opportunità per la ricerca in Italia e in Lombardia a partire dal Piano Nazionale di Ripresa e Resilienza
DTSTART:20211210T093000Z
DTEND:20211210T113000Z
LOCATION:Milano
CLASS:PUBLIC
END:VEVENT
END:VCALENDAR
