BEGIN:VCALENDAR
PRODID:-//AT Content Types//AT Event//EN
VERSION:1.0
BEGIN:VEVENT
DTSTART:20230619T093000Z
DTEND:20230619T100000Z
DCREATED:20230613T093216Z
UID:ATEvent-5ce083d2389a42ada5f471896d26c296
SEQUENCE:0
LAST-MODIFIED:20230613T122202Z
SUMMARY:(Meta)Verso il futuro
DESCRIPTION:1° incontro del ciclo "Smart Pills - 30 minuti nel futuro
 "\, organizzati da Confindustria Varese
LOCATION:On line
PRIORITY:3
TRANSP:0
END:VEVENT
END:VCALENDAR
