BEGIN:VCALENDAR
PRODID:-//AT Content Types//AT Event//EN
VERSION:2.0
METHOD:PUBLISH
BEGIN:VEVENT
DTSTAMP:20260424T140335Z
CREATED:20160622T154959Z
UID:ATEvent-baf1b83b4f724f689ef3826100191976
LAST-MODIFIED:20160622T155045Z
SUMMARY:Mercati internazionali: analisi di scenario e Tecniche di vendita
DTSTART:20160707T073000Z
DTEND:20160707T163000Z
DESCRIPTION:Corso di formazione sull'internazionalizzazione d'impresa
LOCATION:Como
CLASS:PUBLIC
END:VEVENT
END:VCALENDAR
