BEGIN:VCALENDAR
PRODID:-//AT Content Types//AT Event//EN
VERSION:2.0
METHOD:PUBLISH
BEGIN:VEVENT
DTSTAMP:20260424T094851Z
CREATED:20160701T103126Z
UID:ATEvent-1fa892e705464cf0941267b0dbdd2661
LAST-MODIFIED:20160701T122848Z
SUMMARY:Meeting Franco Italiano sull' Efficienza Energetica
DTSTART:20160712T083000Z
DTEND:20160712T150000Z
LOCATION:Milano
CLASS:PUBLIC
END:VEVENT
END:VCALENDAR
