BEGIN:VCALENDAR
PRODID:-//AT Content Types//AT Event//EN
VERSION:1.0
BEGIN:VEVENT
DTSTART:20171011T070000Z
DTEND:20171013T120000Z
DCREATED:20170630T140610Z
UID:ATEvent-db89c7060ad44a1cac0e4245bb9ba5c7
SEQUENCE:0
LAST-MODIFIED:20171010T145635Z
SUMMARY:Meet in Italy for Life Sciences 2017
LOCATION:Torino
PRIORITY:3
TRANSP:0
END:VEVENT
END:VCALENDAR
