BEGIN:VCALENDAR
PRODID:-//AT Content Types//AT Event//EN
VERSION:1.0
BEGIN:VEVENT
DTSTART:20161026T080000Z
DTEND:20161028T110000Z
DCREATED:20160907T154143Z
UID:ATEvent-4030d6e1b92449208542b2f9f8b83518
SEQUENCE:0
LAST-MODIFIED:20160907T154316Z
SUMMARY:Meet in Italy for Life Sciences 2016
LOCATION:Roma
PRIORITY:3
TRANSP:0
END:VEVENT
END:VCALENDAR
