BEGIN:VCALENDAR
PRODID:-//AT Content Types//AT Event//EN
VERSION:2.0
METHOD:PUBLISH
BEGIN:VEVENT
DTSTAMP:20260421T201910Z
CREATED:20220223T160551Z
UID:ATEvent-62d6a456f196426b991433ce4c5d5a42
LAST-MODIFIED:20220223T160554Z
SUMMARY:Meccatronica e PNRR - Digitalizzazione e transizione energetica
DTSTART:20220303T100000Z
DTEND:20220303T113000Z
LOCATION:On line
CLASS:PUBLIC
END:VEVENT
END:VCALENDAR
