BEGIN:VCALENDAR
PRODID:-//AT Content Types//AT Event//EN
VERSION:2.0
METHOD:PUBLISH
BEGIN:VEVENT
DTSTAMP:20260424T041055Z
CREATED:20220921T083529Z
UID:ATEvent-c545ee5a3c10447aa8439c5fea8dcd3c
LAST-MODIFIED:20221004T132451Z
SUMMARY:Matchmaking Event @ Move City Sport 2022
DTSTART:20221019T123000Z
DTEND:20221019T163000Z
DESCRIPTION:La prima manifestazione espositiva e culturale dedicata al
 lo sport per il benessere\, il gioco e il tempo libero.
LOCATION:Bergamo o online
CLASS:PUBLIC
END:VEVENT
END:VCALENDAR
