BEGIN:VCALENDAR
PRODID:-//AT Content Types//AT Event//EN
VERSION:2.0
METHOD:PUBLISH
BEGIN:VEVENT
DTSTAMP:20260423T002127Z
CREATED:20221003T145407Z
UID:ATEvent-0b32d5aad28a411c85683a4283fc1cd4
LAST-MODIFIED:20221003T145516Z
SUMMARY:Marketing territoriale per la valorizzazione dell’Oltrepò pavese
DTSTART:20221011T140000Z
DTEND:20221011T160000Z
LOCATION:Milano
CLASS:PUBLIC
END:VEVENT
END:VCALENDAR
