BEGIN:VCALENDAR
PRODID:-//AT Content Types//AT Event//EN
VERSION:1.0
BEGIN:VEVENT
DTSTART:20190604T121500Z
DTEND:20190604T153000Z
DCREATED:20190523T085214Z
UID:ATEvent-822db54496604a11929d9aafa04a6fc3
SEQUENCE:0
LAST-MODIFIED:20190603T133051Z
SUMMARY:ANNULLATO - Market Access Day: Strumenti per migliorare l'accesso ai mercati esteri
LOCATION:Milano
PRIORITY:3
TRANSP:0
END:VEVENT
END:VCALENDAR
