BEGIN:VCALENDAR
PRODID:-//AT Content Types//AT Event//EN
VERSION:1.0
BEGIN:VEVENT
DTSTART:20161025T060000Z
DTEND:20161027T150000Z
DCREATED:20161018T092804Z
UID:ATEvent-a33706b2540046e78a5517be330edbbb
SEQUENCE:0
LAST-MODIFIED:20161018T092905Z
SUMMARY:Manifestazione Italy-China
LOCATION:Bergamo - Bologna - Napoli
PRIORITY:3
TRANSP:0
END:VEVENT
END:VCALENDAR
