BEGIN:VCALENDAR
PRODID:-//AT Content Types//AT Event//EN
VERSION:1.0
BEGIN:VEVENT
DTSTART:20180302T130000Z
DTEND:20180302T170000Z
DCREATED:20180221T103019Z
UID:ATEvent-e67249505a1246df955b949b9e5d721e
SEQUENCE:0
LAST-MODIFIED:20180302T111854Z
SUMMARY:Management Game 2018 - Giornata di formazione
LOCATION:Milano
PRIORITY:3
TRANSP:0
END:VEVENT
END:VCALENDAR
