BEGIN:VCALENDAR
PRODID:-//AT Content Types//AT Event//EN
VERSION:2.0
METHOD:PUBLISH
BEGIN:VEVENT
DTSTAMP:20260424T053325Z
CREATED:20240610T152546Z
UID:ATEvent-63a58633fc2445f69924e44acb7c0af9
LAST-MODIFIED:20240610T152723Z
SUMMARY:Mai da soli! Confronto fra gli imprenditori della zona Valsabbia -  Lago di Garda
DTSTART:20240626T160000Z
DTEND:20240626T180000Z
DESCRIPTION:Setteottavi + UNO: prima tappa del Roadshow di Confindustr
 ia Brescia - Edizione 2024
LOCATION:Polpenazze del Garda
CLASS:PUBLIC
END:VEVENT
END:VCALENDAR
