BEGIN:VCALENDAR
PRODID:-//AT Content Types//AT Event//EN
VERSION:1.0
BEGIN:VEVENT
DTSTART:20210916T090000Z
DTEND:20210916T110000Z
DCREATED:20210909T154018Z
UID:ATEvent-53033bd77ce046c580594b2a8e494c22
SEQUENCE:0
LAST-MODIFIED:20210909T154027Z
SUMMARY:Made in Italy: nuovi orizzonti per le aziende italiane nel mondo globalizzato in trasformazione
LOCATION:Pavia
PRIORITY:3
TRANSP:0
END:VEVENT
END:VCALENDAR
