BEGIN:VCALENDAR
PRODID:-//AT Content Types//AT Event//EN
VERSION:2.0
METHOD:PUBLISH
BEGIN:VEVENT
DTSTAMP:20260423T043847Z
CREATED:20221010T152519Z
UID:ATEvent-17816b271f5e4a7a8745cf7b191d8b92
LAST-MODIFIED:20221010T164322Z
SUMMARY:MADE Competence Center i4.0 e DIH Lombardia parteciperanno congiuntamente alla fiera BI-MU
DTSTART:20221012T090000Z
DTEND:20221014T150000Z
LOCATION:Rho Fiera Milano
CLASS:PUBLIC
END:VEVENT
END:VCALENDAR
