BEGIN:VCALENDAR
PRODID:-//AT Content Types//AT Event//EN
VERSION:2.0
METHOD:PUBLISH
BEGIN:VEVENT
DTSTAMP:20260424T213327Z
CREATED:20230920T104956Z
UID:ATEvent-474272f515404e5295d4385458bb70ab
LAST-MODIFIED:20230921T091511Z
SUMMARY:L'onere della prova fra elaborazione giurisprudenziale\, riforma fiscale e nuovo processo tributario
DTSTART:20230926T123000Z
DTEND:20230926T153000Z
LOCATION:Milano
CLASS:PUBLIC
END:VEVENT
END:VCALENDAR
