BEGIN:VCALENDAR
PRODID:-//AT Content Types//AT Event//EN
VERSION:1.0
BEGIN:VEVENT
DTSTART:20250919T130000Z
DTEND:20250919T150000Z
DCREATED:20250721T085454Z
UID:ATEvent-23dd91644a8b4292a157489300c0e9af
SEQUENCE:0
LAST-MODIFIED:20250721T085459Z
SUMMARY:Lody Beauty District: la cosmesi guarda al futuro puntando su innovazione e nuovi talenti
DESCRIPTION:Evento organizzato nell'ambito dell'iniziativa Fuori Milan
 o Beauty Week.
LOCATION:Lodi
PRIORITY:3
TRANSP:0
END:VEVENT
END:VCALENDAR
