BEGIN:VCALENDAR
PRODID:-//AT Content Types//AT Event//EN
VERSION:2.0
METHOD:PUBLISH
BEGIN:VEVENT
DTSTAMP:20260424T120044Z
CREATED:20161004T121548Z
UID:ATEvent-be86ea9a7bd34580a307b691411efb17
LAST-MODIFIED:20161017T150011Z
SUMMARY:L'INPGI incontra le aziende
DTSTART:20161020T123000Z
DTEND:20161020T153000Z
DESCRIPTION:contributi\, prestazioni\, ammortizzatori sociali
LOCATION:Milano
CLASS:PUBLIC
END:VEVENT
END:VCALENDAR
