BEGIN:VCALENDAR
PRODID:-//AT Content Types//AT Event//EN
VERSION:1.0
BEGIN:VEVENT
DTSTART:20191009T073000Z
DTEND:20191009T160000Z
DCREATED:20190923T154447Z
UID:ATEvent-ea2d03d8209b49418f80d6c273cf72b4
SEQUENCE:0
LAST-MODIFIED:20190923T154531Z
SUMMARY:L'innovazione nella Silver Economy in Italia
LOCATION:Milano
PRIORITY:3
TRANSP:0
END:VEVENT
END:VCALENDAR
