BEGIN:VCALENDAR
PRODID:-//AT Content Types//AT Event//EN
VERSION:1.0
BEGIN:VEVENT
DTSTART:20161129T144500Z
DTEND:20161129T163000Z
DCREATED:20161128T114052Z
UID:ATEvent-df10b040a73f462cbd2ba72cf5ccaf5f
SEQUENCE:0
LAST-MODIFIED:20161128T114139Z
SUMMARY:L'Indagine retributiva Assolombarda
DESCRIPTION:Un'analisi a misura anche del territorio brianzolo
LOCATION:Monza
PRIORITY:3
TRANSP:0
END:VEVENT
END:VCALENDAR
