BEGIN:VCALENDAR
PRODID:-//AT Content Types//AT Event//EN
VERSION:2.0
METHOD:PUBLISH
BEGIN:VEVENT
DTSTAMP:20260424T123442Z
CREATED:20210114T121527Z
UID:ATEvent-afae836161274831af0e5fbdc7931ea4
LAST-MODIFIED:20210114T121544Z
SUMMARY:L'importanza di valorizzare la Generazione Z
DTSTART:20210118T153000Z
DTEND:20210118T173000Z
LOCATION:On line
CLASS:PUBLIC
END:VEVENT
END:VCALENDAR
