BEGIN:VCALENDAR
PRODID:-//AT Content Types//AT Event//EN
VERSION:2.0
METHOD:PUBLISH
BEGIN:VEVENT
DTSTAMP:20260421T121353Z
CREATED:20230608T115040Z
UID:ATEvent-dc931a5db87f4c1b9f736923afb0646e
LAST-MODIFIED:20230608T115103Z
SUMMARY:L'importanza dei Dati e della Tecnologia per la Logistica e i Trasporti
DTSTART:20230615T120000Z
DTEND:20230615T140000Z
DESCRIPTION:Seminario destinato a chi fa logistica e trasporti per spi
 egare l'evoluzione del mercato e l'importanza di dotarsi di strumenti 
 tecnologici che possano aiutare i decision makers aziendali.
LOCATION:Mantova
CLASS:PUBLIC
END:VEVENT
END:VCALENDAR
