BEGIN:VCALENDAR
PRODID:-//AT Content Types//AT Event//EN
VERSION:1.0
BEGIN:VEVENT
DTSTART:20180516T080000Z
DTEND:20180516T110000Z
DCREATED:20180426T160728Z
UID:ATEvent-e21cbb83200d49639fc4ac5b541a2e0b
SEQUENCE:0
LAST-MODIFIED:20180509T143844Z
SUMMARY:Life 2018: incentivi dall'Europa a sostegno dell'eco innovazione
LOCATION:Milano
PRIORITY:3
TRANSP:0
END:VEVENT
END:VCALENDAR
