BEGIN:VCALENDAR
PRODID:-//AT Content Types//AT Event//EN
VERSION:1.0
BEGIN:VEVENT
DTSTART:20240227T080000Z
DTEND:20240227T120000Z
DCREATED:20240219T120147Z
UID:ATEvent-1c09e99a727748a0ad096959195f52b3
SEQUENCE:0
LAST-MODIFIED:20240222T085425Z
SUMMARY:Il rischio radon in azienda: conoscenza\, prevenzione e soluzioni
LOCATION:Brescia
PRIORITY:3
TRANSP:0
END:VEVENT
END:VCALENDAR
