BEGIN:VCALENDAR
PRODID:-//AT Content Types//AT Event//EN
VERSION:1.0
BEGIN:VEVENT
DTSTART:20240226T090000Z
DTEND:20240226T113000Z
DCREATED:20240219T132032Z
UID:ATEvent-05e95afbc8ab4486a6e7696f32b0d7d2
SEQUENCE:0
LAST-MODIFIED:20240223T112425Z
SUMMARY:Legge di Bilancio 2024
DESCRIPTION:Misure fiscali in Legge di bilancio e DL antipici - Prima 
 attuazione della delega fiscale
LOCATION:Online
PRIORITY:3
TRANSP:0
END:VEVENT
END:VCALENDAR
