BEGIN:VCALENDAR
PRODID:-//AT Content Types//AT Event//EN
VERSION:2.0
METHOD:PUBLISH
BEGIN:VEVENT
DTSTAMP:20260424T114032Z
CREATED:20230220T181201Z
UID:ATEvent-4ded11ba82b74856bd8b282f4142ccdc
LAST-MODIFIED:20230220T181247Z
SUMMARY:Legge di Bilancio 2023 - Focus investimenti innovativi\, Ricerca e Sviluppo
DTSTART:20230223T140000Z
DTEND:20230223T163000Z
DESCRIPTION:Il webinar\, organizzato da Confindustria\, si propone di 
 approfondire le principali misure\, fiscali e non\, a sostegno della r
 icerca\, sviluppo e degli investimenti innovativi
LOCATION:On line
CLASS:PUBLIC
END:VEVENT
END:VCALENDAR
