BEGIN:VCALENDAR
PRODID:-//AT Content Types//AT Event//EN
VERSION:1.0
BEGIN:VEVENT
DTSTART:20190130T073000Z
DTEND:20190130T114500Z
DCREATED:20190121T165111Z
UID:ATEvent-e5ae110e661e4e0898d8256d16c89642
SEQUENCE:0
LAST-MODIFIED:20190121T165117Z
SUMMARY:Legge di Bilancio 2019 e D.L. Reddito di Cittadinanza e Pensioni
LOCATION:Brescia
PRIORITY:3
TRANSP:0
END:VEVENT
END:VCALENDAR
