BEGIN:VCALENDAR
PRODID:-//AT Content Types//AT Event//EN
VERSION:1.0
BEGIN:VEVENT
DTSTART:20160629T073000Z
DTEND:20160629T110000Z
DCREATED:20160627T135519Z
UID:ATEvent-60bfe79981894c218b6854d4674d3100
SEQUENCE:0
LAST-MODIFIED:20160627T135601Z
SUMMARY:Legal Day Francia
DESCRIPTION:incontri one-to-one gratuiti
LOCATION:Monza
PRIORITY:3
TRANSP:0
END:VEVENT
END:VCALENDAR
