BEGIN:VCALENDAR
PRODID:-//AT Content Types//AT Event//EN
VERSION:2.0
METHOD:PUBLISH
BEGIN:VEVENT
DTSTAMP:20260425T213459Z
CREATED:20230705T084551Z
UID:ATEvent-87f6ca0e0c5f4be59fd75a48d9555fd2
LAST-MODIFIED:20230705T084625Z
SUMMARY:Lecco Film Fest | 5-9 luglio 2023
DTSTART:20230705T160000Z
DTEND:20230709T210000Z
LOCATION:Lecco
CLASS:PUBLIC
END:VEVENT
END:VCALENDAR
