BEGIN:VCALENDAR
PRODID:-//AT Content Types//AT Event//EN
VERSION:2.0
METHOD:PUBLISH
BEGIN:VEVENT
DTSTAMP:20260426T030026Z
CREATED:20161026T152841Z
UID:ATEvent-6f2af7a7251042ee992704e2670a35ec
LAST-MODIFIED:20161026T152852Z
SUMMARY:Lean management: migliorare per crescere
DTSTART:20161109T140000Z
DTEND:20161109T170000Z
LOCATION:Bergamo
CLASS:PUBLIC
END:VEVENT
END:VCALENDAR
