BEGIN:VCALENDAR
PRODID:-//AT Content Types//AT Event//EN
VERSION:2.0
METHOD:PUBLISH
BEGIN:VEVENT
DTSTAMP:20260424T092430Z
CREATED:20151006T164136Z
UID:ATEvent-2b0284a9e11a48a983781f2f13aa1cd1
LAST-MODIFIED:20151013T100256Z
SUMMARY:Lean Day di Confindustria Club dei 15
DTSTART:20151015T083000Z
DTEND:20151015T110000Z
LOCATION:Milano
CLASS:PUBLIC
END:VEVENT
END:VCALENDAR
